BEGIN:VCALENDAR
VERSION:2.0
PRODID:icalendar-ruby
CALSCALE:GREGORIAN
METHOD:PUBLISH
BEGIN:VEVENT
DTSTAMP:20260422T012149Z
UID:7-401139@tri-countychurch.org
DTSTART:20261008T000000Z
DTEND:20261008T010000Z
CLASS:PUBLIC
CREATED:20260421T193925
DESCRIPTION:Midweek Service
LAST-MODIFIED:20260421T193925
LOCATION:
SUMMARY:Midweek Service
URL;VALUE=URI:https://tri-countychurch.org/events/midweek-service--7/2026-1
 0-07
END:VEVENT
END:VCALENDAR
