BEGIN:VCALENDAR
VERSION:2.0
PRODID:icalendar-ruby
CALSCALE:GREGORIAN
METHOD:PUBLISH
BEGIN:VEVENT
DTSTAMP:20260425T112133Z
UID:33-405990@tri-countychurch.org
DTSTART:20261025T150000Z
DTEND:20261025T160000Z
CLASS:PUBLIC
CREATED:20260424T204825
DESCRIPTION:Tri County Church Sunday Service
LAST-MODIFIED:20260424T204825
LOCATION:
SUMMARY:Tri County Church Sunday Service
URL;VALUE=URI:https://tri-countychurch.org/events/tri-county-church-sunday-
 service/2026-10-25
END:VEVENT
END:VCALENDAR
