BEGIN:VCALENDAR
VERSION:2.0
PRODID:icalendar-ruby
CALSCALE:GREGORIAN
METHOD:PUBLISH
BEGIN:VEVENT
DTSTAMP:20260425T130210Z
UID:33-406257@tri-countychurch.org
DTSTART:20261101T160000Z
DTEND:20261101T170000Z
CLASS:PUBLIC
CREATED:20260425T063500
DESCRIPTION:Tri County Church Sunday Service
LAST-MODIFIED:20260425T063500
LOCATION:
SUMMARY:Tri County Church Sunday Service
URL;VALUE=URI:https://tri-countychurch.org/events/tri-county-church-sunday-
 service/2026-11-01
END:VEVENT
END:VCALENDAR
